BEGIN:VCALENDAR
VERSION:2.0
CALSCALE:GREGORIAN
PRODID:-//Diputació de Barcelona//DibaCMS//EN
BEGIN:VEVENT
UID:4635
DTSTAMP:20260421T023128
DTSTART:20090618T200000
DTEND:20090618T000000
SUMMARY:Xerrada "Linkat la revolució a l'escola"
LOCATION:
METHOD:PUBLISH
X-WR-CALNAME:caldesm@caldesdemontbui.cat
X-WR-TIMEZONE:Europe/Madrid
DESCRIPTION:
URI:https://www.caldesdemontbui.cat/actualitat/agenda/xerrada-linkat-la-revolucio-a-lescola.html
CLASS:PUBLIC
END:VEVENT
END:VCALENDAR
