BEGIN:VCALENDAR
VERSION:2.0
CALSCALE:GREGORIAN
PRODID:-//Diputació de Barcelona//DibaCMS//EN
BEGIN:VEVENT
UID:4633
DTSTAMP:20260421T020034
DTSTART:20090617T160000
DTEND:20090617T000000
SUMMARY:Teatre i berenar
LOCATION:
METHOD:PUBLISH
X-WR-CALNAME:caldesm@caldesdemontbui.cat
X-WR-TIMEZONE:Europe/Madrid
DESCRIPTION:
URI:https://www.caldesdemontbui.cat/actualitat/agenda/teatre-i-berenar.html
CLASS:PUBLIC
END:VEVENT
END:VCALENDAR
