BEGIN:VCALENDAR
VERSION:2.0
CALSCALE:GREGORIAN
PRODID:-//Diputació de Barcelona//DibaCMS//EN
BEGIN:VEVENT
UID:4629
DTSTAMP:20260420T232346
DTSTART:20090612T200000
DTEND:20090612T000000
SUMMARY:Concert de professors amb projecció de diapositives i recital de poemes
LOCATION:
METHOD:PUBLISH
X-WR-CALNAME:caldesm@caldesdemontbui.cat
X-WR-TIMEZONE:Europe/Madrid
DESCRIPTION:
URI:https://www.caldesdemontbui.cat/actualitat/agenda/concert-de-professors-amb-projeccio-de-diapositives-i-recital-de-poemes.html
CLASS:PUBLIC
END:VEVENT
END:VCALENDAR
