BEGIN:VCALENDAR
VERSION:2.0
CALSCALE:GREGORIAN
PRODID:-//Diputació de Barcelona//DibaCMS//EN
BEGIN:VEVENT
UID:4628
DTSTAMP:20260421T022849
DTSTART:20090612T000000
DTEND:20090614T000000
SUMMARY:Caldes flor. X Mostra d'Art Floral de Caldes de Montbui 
LOCATION:
METHOD:PUBLISH
X-WR-CALNAME:caldesm@caldesdemontbui.cat
X-WR-TIMEZONE:Europe/Madrid
DESCRIPTION:
URI:https://www.caldesdemontbui.cat/actualitat/agenda/caldes-flor-x-mostra-dart-floral-de-caldes-de-montbui-.html
CLASS:PUBLIC
END:VEVENT
END:VCALENDAR
