BEGIN:VCALENDAR
VERSION:2.0
CALSCALE:GREGORIAN
PRODID:-//Diputació de Barcelona//DibaCMS//EN
BEGIN:VEVENT
UID:4626
DTSTAMP:20260421T051303
DTSTART:20090611T000000
DTEND:20090630T000000
SUMMARY:Exposició dels alumnes infants del Taller d'Art Municipal Manolo Hugué
LOCATION:
METHOD:PUBLISH
X-WR-CALNAME:caldesm@caldesdemontbui.cat
X-WR-TIMEZONE:Europe/Madrid
DESCRIPTION:
URI:https://www.caldesdemontbui.cat/actualitat/agenda/exposicio-dels-alumnes-infants-del-taller-dart-municipal-manolo-hugue.html
CLASS:PUBLIC
END:VEVENT
END:VCALENDAR
