BEGIN:VCALENDAR
VERSION:2.0
CALSCALE:GREGORIAN
PRODID:-//Diputació de Barcelona//DibaCMS//EN
BEGIN:VEVENT
UID:4625
DTSTAMP:20260421T082003
DTSTART:20090610T200000
DTEND:20090610T000000
SUMMARY:Concert de cambra de l'Escola Municipal de Música Joan Valls
LOCATION:
METHOD:PUBLISH
X-WR-CALNAME:caldesm@caldesdemontbui.cat
X-WR-TIMEZONE:Europe/Madrid
DESCRIPTION:
URI:https://www.caldesdemontbui.cat/actualitat/agenda/concert-de-cambra-de-lescola-municipal-de-msica-joan-valls.html
CLASS:PUBLIC
END:VEVENT
END:VCALENDAR
