BEGIN:VCALENDAR
VERSION:2.0
CALSCALE:GREGORIAN
PRODID:-//Diputació de Barcelona//DibaCMS//EN
BEGIN:VEVENT
UID:4624
DTSTAMP:20260420T233027
DTSTART:20090610T193000
DTEND:20090610T000000
SUMMARY:Conferència "Encomana el català: les actituds lingüístiques dels catalanoparlants i el futur de la llengua"
LOCATION:
METHOD:PUBLISH
X-WR-CALNAME:caldesm@caldesdemontbui.cat
X-WR-TIMEZONE:Europe/Madrid
DESCRIPTION:
URI:https://www.caldesdemontbui.cat/actualitat/agenda/conferencia-encomana-el-catala-les-actituds-lingistiques-dels-catalanoparlants-i-el-futur-de-la-llengua.html
CLASS:PUBLIC
END:VEVENT
END:VCALENDAR
