BEGIN:VCALENDAR
VERSION:2.0
CALSCALE:GREGORIAN
PRODID:-//Diputació de Barcelona//DibaCMS//EN
BEGIN:VEVENT
UID:4623
DTSTAMP:20260421T023055
DTSTART:20090610T160000
DTEND:20090610T000000
SUMMARY:Visita a la fàbrica de pasta Sanmartí
LOCATION:
METHOD:PUBLISH
X-WR-CALNAME:caldesm@caldesdemontbui.cat
X-WR-TIMEZONE:Europe/Madrid
DESCRIPTION:
URI:https://www.caldesdemontbui.cat/actualitat/agenda/visita-a-la-fabrica-de-pasta-sanmarti.html
CLASS:PUBLIC
END:VEVENT
END:VCALENDAR
