BEGIN:VCALENDAR
VERSION:2.0
CALSCALE:GREGORIAN
PRODID:-//Diputació de Barcelona//DibaCMS//EN
BEGIN:VEVENT
UID:4622
DTSTAMP:20260421T005933
DTSTART:20090610T100000
DTEND:20090613T130000
SUMMARY:Festa cloenda: Pla Català de l'Esport a l'Escola i Cursos d'Educació Viària
LOCATION:
METHOD:PUBLISH
X-WR-CALNAME:caldesm@caldesdemontbui.cat
X-WR-TIMEZONE:Europe/Madrid
DESCRIPTION:
URI:https://www.caldesdemontbui.cat/actualitat/agenda/festa-cloenda-pla-catala-de-lesport-a-lescola-i-cursos-deducacio-viaria.html
CLASS:PUBLIC
END:VEVENT
END:VCALENDAR
