BEGIN:VCALENDAR
VERSION:2.0
CALSCALE:GREGORIAN
PRODID:-//Diputació de Barcelona//DibaCMS//EN
BEGIN:VEVENT
UID:4619
DTSTAMP:20260420T232947
DTSTART:20090604T210000
DTEND:20090604T000000
SUMMARY:Xerrada del programa "Créixer amb tu": La cura, el desenvolupament i l'educació de les criatures
LOCATION:
METHOD:PUBLISH
X-WR-CALNAME:caldesm@caldesdemontbui.cat
X-WR-TIMEZONE:Europe/Madrid
DESCRIPTION:
URI:https://www.caldesdemontbui.cat/actualitat/agenda/xerrada-del-programa-creixer-amb-tu-la-cura-el-desenvolupament-i-leducacio-de-les-criatures.html
CLASS:PUBLIC
END:VEVENT
END:VCALENDAR
