BEGIN:VCALENDAR
VERSION:2.0
CALSCALE:GREGORIAN
PRODID:-//Diputació de Barcelona//DibaCMS//EN
BEGIN:VEVENT
UID:4618
DTSTAMP:20260421T004326
DTSTART:20090603T160000
DTEND:20090603T000000
SUMMARY:Xerrada sobre temes de Caldes
LOCATION:
METHOD:PUBLISH
X-WR-CALNAME:caldesm@caldesdemontbui.cat
X-WR-TIMEZONE:Europe/Madrid
DESCRIPTION:
URI:https://www.caldesdemontbui.cat/actualitat/agenda/xerrada-sobre-temes-de-caldes.html
CLASS:PUBLIC
END:VEVENT
END:VCALENDAR
