BEGIN:VCALENDAR
VERSION:2.0
CALSCALE:GREGORIAN
PRODID:-//Diputació de Barcelona//DibaCMS//EN
BEGIN:VEVENT
UID:4617
DTSTAMP:20260421T022934
DTSTART:20090530T100000
DTEND:20090530T000000
SUMMARY:Fira d'Entitats de Caldes de Montbui 
LOCATION:
METHOD:PUBLISH
X-WR-CALNAME:caldesm@caldesdemontbui.cat
X-WR-TIMEZONE:Europe/Madrid
DESCRIPTION:
URI:https://www.caldesdemontbui.cat/actualitat/agenda/fira-dentitats-de-caldes-de-montbui-.html
CLASS:PUBLIC
END:VEVENT
END:VCALENDAR
