BEGIN:VCALENDAR
VERSION:2.0
CALSCALE:GREGORIAN
PRODID:-//Diputació de Barcelona//DibaCMS//EN
BEGIN:VEVENT
UID:4616
DTSTAMP:20260421T051442
DTSTART:20090530T093000
DTEND:20090530T000000
SUMMARY:Sortida del Club de Lectura de la Biblioteca: Rusiñol a Sitges
LOCATION:
METHOD:PUBLISH
X-WR-CALNAME:caldesm@caldesdemontbui.cat
X-WR-TIMEZONE:Europe/Madrid
DESCRIPTION:
URI:https://www.caldesdemontbui.cat/actualitat/agenda/sortida-del-club-de-lectura-de-la-biblioteca-rusinol-a-sitges.html
CLASS:PUBLIC
END:VEVENT
END:VCALENDAR
