BEGIN:VCALENDAR
VERSION:2.0
CALSCALE:GREGORIAN
PRODID:-//Diputació de Barcelona//DibaCMS//EN
BEGIN:VEVENT
UID:4612
DTSTAMP:20260421T020145
DTSTART:20090528T160000
DTEND:20090528T000000
SUMMARY:Sortida cultural al Castell de Montjuïc
LOCATION:
METHOD:PUBLISH
X-WR-CALNAME:caldesm@caldesdemontbui.cat
X-WR-TIMEZONE:Europe/Madrid
DESCRIPTION:
URI:https://www.caldesdemontbui.cat/actualitat/agenda/sortida-cultural-al-castell-de-montjuic.html
CLASS:PUBLIC
END:VEVENT
END:VCALENDAR
