BEGIN:VCALENDAR
VERSION:2.0
CALSCALE:GREGORIAN
PRODID:-//Diputació de Barcelona//DibaCMS//EN
BEGIN:VEVENT
UID:4611
DTSTAMP:20260421T034146
DTSTART:20090527T160000
DTEND:20090527T000000
SUMMARY:Bingo
LOCATION:
METHOD:PUBLISH
X-WR-CALNAME:caldesm@caldesdemontbui.cat
X-WR-TIMEZONE:Europe/Madrid
DESCRIPTION:
URI:https://www.caldesdemontbui.cat/actualitat/agenda/bingo.html
CLASS:PUBLIC
END:VEVENT
END:VCALENDAR
