BEGIN:VCALENDAR
VERSION:2.0
CALSCALE:GREGORIAN
PRODID:-//Diputació de Barcelona//DibaCMS//EN
BEGIN:VEVENT
UID:4609
DTSTAMP:20260421T014729
DTSTART:20090523T170000
DTEND:20090523T000000
SUMMARY:Festa dels 90 anys
LOCATION:
METHOD:PUBLISH
X-WR-CALNAME:caldesm@caldesdemontbui.cat
X-WR-TIMEZONE:Europe/Madrid
DESCRIPTION:
URI:https://www.caldesdemontbui.cat/actualitat/agenda/festa-dels-90-anys.html
CLASS:PUBLIC
END:VEVENT
END:VCALENDAR
