BEGIN:VCALENDAR
VERSION:2.0
CALSCALE:GREGORIAN
PRODID:-//Diputació de Barcelona//DibaCMS//EN
BEGIN:VEVENT
UID:4608
DTSTAMP:20260421T020245
DTSTART:20090523T103000
DTEND:20090523T133000
SUMMARY:Install party d'UBUNTU 9.4.
LOCATION:
METHOD:PUBLISH
X-WR-CALNAME:caldesm@caldesdemontbui.cat
X-WR-TIMEZONE:Europe/Madrid
DESCRIPTION:
URI:https://www.caldesdemontbui.cat/actualitat/agenda/install-party-dubuntu-94.html
CLASS:PUBLIC
END:VEVENT
END:VCALENDAR
