BEGIN:VCALENDAR
VERSION:2.0
CALSCALE:GREGORIAN
PRODID:-//Diputació de Barcelona//DibaCMS//EN
BEGIN:VEVENT
UID:4607
DTSTAMP:20260421T005820
DTSTART:20090523T000000
DTEND:20090524T000000
SUMMARY:Torneig Vila Termal de Caldes d'Hoqui Patins
LOCATION:
METHOD:PUBLISH
X-WR-CALNAME:caldesm@caldesdemontbui.cat
X-WR-TIMEZONE:Europe/Madrid
DESCRIPTION:
URI:https://www.caldesdemontbui.cat/actualitat/agenda/torneig-vila-termal-de-caldes-dhoqui-patins.html
CLASS:PUBLIC
END:VEVENT
END:VCALENDAR
