BEGIN:VCALENDAR
VERSION:2.0
CALSCALE:GREGORIAN
PRODID:-//Diputació de Barcelona//DibaCMS//EN
BEGIN:VEVENT
UID:4606
DTSTAMP:20260421T081741
DTSTART:20090522T180000
DTEND:20090522T000000
SUMMARY:Hora del conte: Fira de Titellaires Romà Martí
LOCATION:
METHOD:PUBLISH
X-WR-CALNAME:caldesm@caldesdemontbui.cat
X-WR-TIMEZONE:Europe/Madrid
DESCRIPTION:
URI:https://www.caldesdemontbui.cat/actualitat/agenda/hora-del-conte-fira-de-titellaires-roma-marti.html
CLASS:PUBLIC
END:VEVENT
END:VCALENDAR
