BEGIN:VCALENDAR
VERSION:2.0
CALSCALE:GREGORIAN
PRODID:-//Diputació de Barcelona//DibaCMS//EN
BEGIN:VEVENT
UID:4605
DTSTAMP:20260421T040011
DTSTART:20090521T210000
DTEND:20090521T000000
SUMMARY:Xerrada del programa "Créixer amb tu": La cura i la salut de la criatura
LOCATION:
METHOD:PUBLISH
X-WR-CALNAME:caldesm@caldesdemontbui.cat
X-WR-TIMEZONE:Europe/Madrid
DESCRIPTION:
URI:https://www.caldesdemontbui.cat/actualitat/agenda/xerrada-del-programa-creixer-amb-tu-la-cura-i-la-salut-de-la-criatura.html
CLASS:PUBLIC
END:VEVENT
END:VCALENDAR
