BEGIN:VCALENDAR
VERSION:2.0
CALSCALE:GREGORIAN
PRODID:-//Diputació de Barcelona//DibaCMS//EN
BEGIN:VEVENT
UID:4604
DTSTAMP:20260421T003428
DTSTART:20090521T193000
DTEND:20090521T000000
SUMMARY:Presentació del nou sistema operatiu UBUNTU 9.4. 
LOCATION:
METHOD:PUBLISH
X-WR-CALNAME:caldesm@caldesdemontbui.cat
X-WR-TIMEZONE:Europe/Madrid
DESCRIPTION:
URI:https://www.caldesdemontbui.cat/actualitat/agenda/presentacio-del-nou-sistema-operatiu-ubuntu-94-.html
CLASS:PUBLIC
END:VEVENT
END:VCALENDAR
