BEGIN:VCALENDAR
VERSION:2.0
CALSCALE:GREGORIAN
PRODID:-//Diputació de Barcelona//DibaCMS//EN
BEGIN:VEVENT
UID:4603
DTSTAMP:20260421T095128
DTSTART:20090520T160000
DTEND:20090520T000000
SUMMARY:Xerrada: Com prevenir les malalties cardiovasculars 
LOCATION:
METHOD:PUBLISH
X-WR-CALNAME:caldesm@caldesdemontbui.cat
X-WR-TIMEZONE:Europe/Madrid
DESCRIPTION:
URI:https://www.caldesdemontbui.cat/actualitat/agenda/xerrada-com-prevenir-les-malalties-cardiovasculars-.html
CLASS:PUBLIC
END:VEVENT
END:VCALENDAR
