BEGIN:VCALENDAR
VERSION:2.0
CALSCALE:GREGORIAN
PRODID:-//Diputació de Barcelona//DibaCMS//EN
BEGIN:VEVENT
UID:4602
DTSTAMP:20260420T232916
DTSTART:20090517T120000
DTEND:20090517T000000
SUMMARY:Inauguració de l'exposició L'autòmat al segle XXI, de la Col·lecció Lluís Ribas Duran
LOCATION:
METHOD:PUBLISH
X-WR-CALNAME:caldesm@caldesdemontbui.cat
X-WR-TIMEZONE:Europe/Madrid
DESCRIPTION:
URI:https://www.caldesdemontbui.cat/actualitat/agenda/inauguracio-de-lexposicio-lautomat-al-segle-xxi-de-la-colleccio-lluis-ribas-duran.html
CLASS:PUBLIC
END:VEVENT
END:VCALENDAR
