BEGIN:VCALENDAR
VERSION:2.0
CALSCALE:GREGORIAN
PRODID:-//Diputació de Barcelona//DibaCMS//EN
BEGIN:VEVENT
UID:4601
DTSTAMP:20260421T021411
DTSTART:20090516T100000
DTEND:20090516T140000
SUMMARY:Romiatge al Santuari de la Salut de Sabadell
LOCATION:
METHOD:PUBLISH
X-WR-CALNAME:caldesm@caldesdemontbui.cat
X-WR-TIMEZONE:Europe/Madrid
DESCRIPTION:
URI:https://www.caldesdemontbui.cat/actualitat/agenda/romiatge-al-santuari-de-la-salut-de-sabadell.html
CLASS:PUBLIC
END:VEVENT
END:VCALENDAR
