BEGIN:VCALENDAR
VERSION:2.0
CALSCALE:GREGORIAN
PRODID:-//Diputació de Barcelona//DibaCMS//EN
BEGIN:VEVENT
UID:4600
DTSTAMP:20260421T035057
DTSTART:20090513T220000
DTEND:20090513T000000
SUMMARY:Projecció de la Final de la Copa del Rei: Barça - Atlètic de Bilbao
LOCATION:
METHOD:PUBLISH
X-WR-CALNAME:caldesm@caldesdemontbui.cat
X-WR-TIMEZONE:Europe/Madrid
DESCRIPTION:
URI:https://www.caldesdemontbui.cat/actualitat/agenda/projeccio-de-la-final-de-la-copa-del-rei-barca---atletic-de-bilbao.html
CLASS:PUBLIC
END:VEVENT
END:VCALENDAR
