BEGIN:VCALENDAR
VERSION:2.0
CALSCALE:GREGORIAN
PRODID:-//Diputació de Barcelona//DibaCMS//EN
BEGIN:VEVENT
UID:4595
DTSTAMP:20260420T152401
DTSTART:20090510T180000
DTEND:20090510T000000
SUMMARY:Cloenda de la XIII Escola de Sardanes i XII Trobada Sardanista
LOCATION:
METHOD:PUBLISH
X-WR-CALNAME:caldesm@caldesdemontbui.cat
X-WR-TIMEZONE:Europe/Madrid
DESCRIPTION:
URI:https://www.caldesdemontbui.cat/actualitat/agenda/cloenda-de-la-xiii-escola-de-sardanes-i-xii-trobada-sardanista.html
CLASS:PUBLIC
END:VEVENT
END:VCALENDAR
