BEGIN:VCALENDAR
VERSION:2.0
CALSCALE:GREGORIAN
PRODID:-//Diputació de Barcelona//DibaCMS//EN
BEGIN:VEVENT
UID:4592
DTSTAMP:20260421T195856
DTSTART:20090506T160000
DTEND:20090506T000000
SUMMARY:Taller de flors i plantes a càrrec de Jardineria Miró
LOCATION:
METHOD:PUBLISH
X-WR-CALNAME:caldesm@caldesdemontbui.cat
X-WR-TIMEZONE:Europe/Madrid
DESCRIPTION:
URI:https://www.caldesdemontbui.cat/actualitat/agenda/taller-de-flors-i-plantes-a-carrec-de-jardineria-miro.html
CLASS:PUBLIC
END:VEVENT
END:VCALENDAR
