BEGIN:VCALENDAR
VERSION:2.0
CALSCALE:GREGORIAN
PRODID:-//Diputació de Barcelona//DibaCMS//EN
BEGIN:VEVENT
UID:4591
DTSTAMP:20260421T034827
DTSTART:20090429T160000
DTEND:20090429T000000
SUMMARY:Cloenda del taller de cuina a càrrec de Joan Dalmau
LOCATION:
METHOD:PUBLISH
X-WR-CALNAME:caldesm@caldesdemontbui.cat
X-WR-TIMEZONE:Europe/Madrid
DESCRIPTION:
URI:https://www.caldesdemontbui.cat/actualitat/agenda/cloenda-del-taller-de-cuina-a-carrec-de-joan-dalmau.html
CLASS:PUBLIC
END:VEVENT
END:VCALENDAR
