BEGIN:VCALENDAR
VERSION:2.0
CALSCALE:GREGORIAN
PRODID:-//Diputació de Barcelona//DibaCMS//EN
BEGIN:VEVENT
UID:4590
DTSTAMP:20260420T151547
DTSTART:20090427T190000
DTEND:20090427T000000
SUMMARY:Club de lectura
LOCATION:
METHOD:PUBLISH
X-WR-CALNAME:caldesm@caldesdemontbui.cat
X-WR-TIMEZONE:Europe/Madrid
DESCRIPTION:
URI:https://www.caldesdemontbui.cat/actualitat/agenda/club-de-lectura.html
CLASS:PUBLIC
END:VEVENT
END:VCALENDAR
