BEGIN:VCALENDAR
VERSION:2.0
CALSCALE:GREGORIAN
PRODID:-//Diputació de Barcelona//DibaCMS//EN
BEGIN:VEVENT
UID:4589
DTSTAMP:20260420T170749
DTSTART:20090424T180000
DTEND:20090424T000000
SUMMARY:Contes del Món
LOCATION:
METHOD:PUBLISH
X-WR-CALNAME:caldesm@caldesdemontbui.cat
X-WR-TIMEZONE:Europe/Madrid
DESCRIPTION:
URI:https://www.caldesdemontbui.cat/actualitat/agenda/contes-del-mon.html
CLASS:PUBLIC
END:VEVENT
END:VCALENDAR
