BEGIN:VCALENDAR
VERSION:2.0
CALSCALE:GREGORIAN
PRODID:-//Diputació de Barcelona//DibaCMS//EN
BEGIN:VEVENT
UID:4588
DTSTAMP:20260421T023007
DTSTART:20090423T170000
DTEND:20090423T200000
SUMMARY:Trobada amb els nostres escriptors (Sant Jordi 2009)
LOCATION:
METHOD:PUBLISH
X-WR-CALNAME:caldesm@caldesdemontbui.cat
X-WR-TIMEZONE:Europe/Madrid
DESCRIPTION:
URI:https://www.caldesdemontbui.cat/actualitat/agenda/trobada-amb-els-nostres-escriptors-sant-jordi-2009.html
CLASS:PUBLIC
END:VEVENT
END:VCALENDAR
