BEGIN:VCALENDAR
VERSION:2.0
CALSCALE:GREGORIAN
PRODID:-//Diputació de Barcelona//DibaCMS//EN
BEGIN:VEVENT
UID:4587
DTSTAMP:20260420T201005
DTSTART:20090423T000000
DTEND:20090423T000000
SUMMARY:Els tallers de la Biblioteca (Sant Jordi 2009)
LOCATION:
METHOD:PUBLISH
X-WR-CALNAME:caldesm@caldesdemontbui.cat
X-WR-TIMEZONE:Europe/Madrid
DESCRIPTION:
URI:https://www.caldesdemontbui.cat/actualitat/agenda/els-tallers-de-la-biblioteca-sant-jordi-2009.html
CLASS:PUBLIC
END:VEVENT
END:VCALENDAR
