BEGIN:VCALENDAR
VERSION:2.0
CALSCALE:GREGORIAN
PRODID:-//Diputació de Barcelona//DibaCMS//EN
BEGIN:VEVENT
UID:4586
DTSTAMP:20260420T132904
DTSTART:20090422T160000
DTEND:20090422T000000
SUMMARY:Xerrada sobre literatura catalana
LOCATION:
METHOD:PUBLISH
X-WR-CALNAME:caldesm@caldesdemontbui.cat
X-WR-TIMEZONE:Europe/Madrid
DESCRIPTION:
URI:https://www.caldesdemontbui.cat/actualitat/agenda/xerrada-sobre-literatura-catalana.html
CLASS:PUBLIC
END:VEVENT
END:VCALENDAR
