BEGIN:VCALENDAR
VERSION:2.0
CALSCALE:GREGORIAN
PRODID:-//Diputació de Barcelona//DibaCMS//EN
BEGIN:VEVENT
UID:4584
DTSTAMP:20260420T151109
DTSTART:20090416T193000
DTEND:20090416T000000
SUMMARY:Xerrada "Llibres prohibits"
LOCATION:
METHOD:PUBLISH
X-WR-CALNAME:caldesm@caldesdemontbui.cat
X-WR-TIMEZONE:Europe/Madrid
DESCRIPTION:
URI:https://www.caldesdemontbui.cat/actualitat/agenda/xerrada-llibres-prohibits.html
CLASS:PUBLIC
END:VEVENT
END:VCALENDAR
