BEGIN:VCALENDAR
VERSION:2.0
CALSCALE:GREGORIAN
PRODID:-//Diputació de Barcelona//DibaCMS//EN
BEGIN:VEVENT
UID:4582
DTSTAMP:20260420T230641
DTSTART:20090413T000000
DTEND:20090513T000000
SUMMARY:Exposició: I després de l'ESO, què?
LOCATION:
METHOD:PUBLISH
X-WR-CALNAME:caldesm@caldesdemontbui.cat
X-WR-TIMEZONE:Europe/Madrid
DESCRIPTION:
URI:https://www.caldesdemontbui.cat/actualitat/agenda/exposicio-i-despres-de-leso-que.html
CLASS:PUBLIC
END:VEVENT
END:VCALENDAR
