BEGIN:VCALENDAR
VERSION:2.0
CALSCALE:GREGORIAN
PRODID:-//Diputació de Barcelona//DibaCMS//EN
BEGIN:VEVENT
UID:4578
DTSTAMP:20260420T223134
DTSTART:20090402T200000
DTEND:20090402T000000
SUMMARY:Presentació de la Guia i mapa excursionista El Farell i el seu entorn
LOCATION:
METHOD:PUBLISH
X-WR-CALNAME:caldesm@caldesdemontbui.cat
X-WR-TIMEZONE:Europe/Madrid
DESCRIPTION:
URI:https://www.caldesdemontbui.cat/actualitat/agenda/presentacio-de-la-guia-i-mapa-excursionista-el-farell-i-el-seu-entorn.html
CLASS:PUBLIC
END:VEVENT
END:VCALENDAR
