BEGIN:VCALENDAR
VERSION:2.0
CALSCALE:GREGORIAN
PRODID:-//Diputació de Barcelona//DibaCMS//EN
BEGIN:VEVENT
UID:4574
DTSTAMP:20260420T152430
DTSTART:20090330T190000
DTEND:20090330T000000
SUMMARY:Club de lectura. Tertúlia sobre el llibre "L'animal moribund" de Philip Roth
LOCATION:
METHOD:PUBLISH
X-WR-CALNAME:caldesm@caldesdemontbui.cat
X-WR-TIMEZONE:Europe/Madrid
DESCRIPTION:
URI:https://www.caldesdemontbui.cat/actualitat/agenda/club-de-lectura-tertlia-sobre-el-llibre-lanimal-moribund-de-philip-roth.html
CLASS:PUBLIC
END:VEVENT
END:VCALENDAR
