BEGIN:VCALENDAR
VERSION:2.0
CALSCALE:GREGORIAN
PRODID:-//Diputació de Barcelona//DibaCMS//EN
BEGIN:VEVENT
UID:4572
DTSTAMP:20260420T150621
DTSTART:20090324T190000
DTEND:20090324T000000
SUMMARY:Xerrada sobre el servei de ginecologia
LOCATION:
METHOD:PUBLISH
X-WR-CALNAME:caldesm@caldesdemontbui.cat
X-WR-TIMEZONE:Europe/Madrid
DESCRIPTION:
URI:https://www.caldesdemontbui.cat/actualitat/agenda/xerrada-sobre-el-servei-de-ginecologia.html
CLASS:PUBLIC
END:VEVENT
END:VCALENDAR
