BEGIN:VCALENDAR
VERSION:2.0
CALSCALE:GREGORIAN
PRODID:-//Diputació de Barcelona//DibaCMS//EN
BEGIN:VEVENT
UID:4570
DTSTAMP:20260420T114946
DTSTART:20090322T120000
DTEND:20090322T000000
SUMMARY:Vista guiada a l'exposició "El plasticisme espiritual de Francesc Domingo"
LOCATION:
METHOD:PUBLISH
X-WR-CALNAME:caldesm@caldesdemontbui.cat
X-WR-TIMEZONE:Europe/Madrid
DESCRIPTION:
URI:https://www.caldesdemontbui.cat/actualitat/agenda/vista-guiada-a-lexposicio-el-plasticisme-espiritual-de-francesc-domingo.html
CLASS:PUBLIC
END:VEVENT
END:VCALENDAR
