BEGIN:VCALENDAR
VERSION:2.0
CALSCALE:GREGORIAN
PRODID:-//Diputació de Barcelona//DibaCMS//EN
BEGIN:VEVENT
UID:4569
DTSTAMP:20260420T101708
DTSTART:20090322T073000
DTEND:20090322T000000
SUMMARY:La Caminada de Caldes de Montbui: La ruta de la Serra Llisa
LOCATION:
METHOD:PUBLISH
X-WR-CALNAME:caldesm@caldesdemontbui.cat
X-WR-TIMEZONE:Europe/Madrid
DESCRIPTION:
URI:https://www.caldesdemontbui.cat/actualitat/agenda/la-caminada-de-caldes-de-montbui-la-ruta-de-la-serra-llisa.html
CLASS:PUBLIC
END:VEVENT
END:VCALENDAR
