BEGIN:VCALENDAR
VERSION:2.0
CALSCALE:GREGORIAN
PRODID:-//Diputació de Barcelona//DibaCMS//EN
BEGIN:VEVENT
UID:4568
DTSTAMP:20260420T114827
DTSTART:20090321T183000
DTEND:20090321T000000
SUMMARY:Documental "Noam Chomsky. Poder Disidencia y racismo"
LOCATION:
METHOD:PUBLISH
X-WR-CALNAME:caldesm@caldesdemontbui.cat
X-WR-TIMEZONE:Europe/Madrid
DESCRIPTION:
URI:https://www.caldesdemontbui.cat/actualitat/agenda/documental-noam-chomsky-poder-disidencia-y-racismo.html
CLASS:PUBLIC
END:VEVENT
END:VCALENDAR
