BEGIN:VCALENDAR
VERSION:2.0
CALSCALE:GREGORIAN
PRODID:-//Diputació de Barcelona//DibaCMS//EN
BEGIN:VEVENT
UID:4566
DTSTAMP:20260422T155155
DTSTART:20090319T193000
DTEND:20090319T000000
SUMMARY:Xerrada "Coneixement lliure a Internet"
LOCATION:
METHOD:PUBLISH
X-WR-CALNAME:caldesm@caldesdemontbui.cat
X-WR-TIMEZONE:Europe/Madrid
DESCRIPTION:
URI:https://www.caldesdemontbui.cat/actualitat/agenda/xerrada-coneixement-lliure-a-internet.html
CLASS:PUBLIC
END:VEVENT
END:VCALENDAR
