BEGIN:VCALENDAR
VERSION:2.0
CALSCALE:GREGORIAN
PRODID:-//Diputació de Barcelona//DibaCMS//EN
BEGIN:VEVENT
UID:4564
DTSTAMP:20260420T165847
DTSTART:20090314T000000
DTEND:20090315T000000
SUMMARY:Mercat de l'Olla i la Caldera i XXIV Mercat d'Artesans
LOCATION:
METHOD:PUBLISH
X-WR-CALNAME:caldesm@caldesdemontbui.cat
X-WR-TIMEZONE:Europe/Madrid
DESCRIPTION:
URI:https://www.caldesdemontbui.cat/actualitat/agenda/mercat-de-lolla-i-la-caldera-i-xxiv-mercat-dartesans.html
CLASS:PUBLIC
END:VEVENT
END:VCALENDAR
