BEGIN:VCALENDAR
VERSION:2.0
CALSCALE:GREGORIAN
PRODID:-//Diputació de Barcelona//DibaCMS//EN
BEGIN:VEVENT
UID:4558
DTSTAMP:20260420T194402
DTSTART:20090306T193000
DTEND:20090306T000000
SUMMARY:Cinema social: "Tierra de mujeres"
LOCATION:
METHOD:PUBLISH
X-WR-CALNAME:caldesm@caldesdemontbui.cat
X-WR-TIMEZONE:Europe/Madrid
DESCRIPTION:
URI:https://www.caldesdemontbui.cat/actualitat/agenda/cinema-social-tierra-de-mujeres.html
CLASS:PUBLIC
END:VEVENT
END:VCALENDAR
