BEGIN:VCALENDAR
VERSION:2.0
CALSCALE:GREGORIAN
PRODID:-//Diputació de Barcelona//DibaCMS//EN
BEGIN:VEVENT
UID:29248
DTSTAMP:20260424T150420
DTSTART:20260504T170000
DTEND:20260504T170000
SUMMARY:2a sessió informativa per participar en el projecte europeu Empower NEET
LOCATION:08140 Caldes de Montbui
METHOD:PUBLISH
X-WR-CALNAME:caldesm@caldesdemontbui.cat
X-WR-TIMEZONE:Europe/Madrid
DESCRIPTION:
URI:https://www.caldesdemontbui.cat/actualitat/agenda/29248-2a-sessio-informativa-per-participar-en-el-projecte-europeu-empower-neet.html
CLASS:PUBLIC
END:VEVENT
END:VCALENDAR
