BEGIN:VCALENDAR
VERSION:2.0
CALSCALE:GREGORIAN
PRODID:-//Diputació de Barcelona//DibaCMS//EN
BEGIN:VEVENT
UID:29221
DTSTAMP:20260422T221818
DTSTART:20260423T173000
DTEND:20260423T173000
SUMMARY:Sant Jordi 2026. Lliurament de premis del concurs Pintapunt de la Biblioteca
LOCATION:Plaça de Catalunya 
METHOD:PUBLISH
X-WR-CALNAME:caldesm@caldesdemontbui.cat
X-WR-TIMEZONE:Europe/Madrid
DESCRIPTION:
URI:https://www.caldesdemontbui.cat/actualitat/agenda/sant-jordi-2026-lliurament-de-premis-del-concurs-pintapunt-de-la-biblioteca.html
CLASS:PUBLIC
END:VEVENT
END:VCALENDAR
