BEGIN:VCALENDAR
VERSION:2.0
CALSCALE:GREGORIAN
PRODID:-//Diputació de Barcelona//DibaCMS//EN
BEGIN:VEVENT
UID:29220
DTSTAMP:20260420T115120
DTSTART:20260423T153000
DTEND:20260423T153000
SUMMARY:Sant Jordi 2026. Teatre Sant Jordi i el regne de la rosa
LOCATION:Plaça de Catalunya 
METHOD:PUBLISH
X-WR-CALNAME:caldesm@caldesdemontbui.cat
X-WR-TIMEZONE:Europe/Madrid
DESCRIPTION:
URI:https://www.caldesdemontbui.cat/actualitat/agenda/sant-jordi-2026-teatre-sant-jordi-i-el-regne-de-la-rosa.html
CLASS:PUBLIC
END:VEVENT
END:VCALENDAR
