BEGIN:VCALENDAR
VERSION:2.0
CALSCALE:GREGORIAN
PRODID:-//Diputació de Barcelona//DibaCMS//EN
BEGIN:VEVENT
UID:29219
DTSTAMP:20260420T183050
DTSTART:20260423T103000
DTEND:20260423T130000
SUMMARY:Sant Jordi 2026. Mostra de ball en línia, sardanes i sevillanes
LOCATION:Plaça de Catalunya 
METHOD:PUBLISH
X-WR-CALNAME:caldesm@caldesdemontbui.cat
X-WR-TIMEZONE:Europe/Madrid
DESCRIPTION:
URI:https://www.caldesdemontbui.cat/actualitat/agenda/sant-jordi-2026-mostra-de-ball-en-linia-sardanes-i-sevillanes.html
CLASS:PUBLIC
END:VEVENT
END:VCALENDAR
