BEGIN:VCALENDAR
VERSION:2.0
CALSCALE:GREGORIAN
PRODID:-//Diputació de Barcelona//DibaCMS//EN
BEGIN:VEVENT
UID:29215
DTSTAMP:20260422T173611
DTSTART:20260419T110000
DTEND:20260419T110000
SUMMARY:Sant Jordi 2026.Diada castellera de primavera
LOCATION:PLaça de la Colla Castellera de Caldes 
METHOD:PUBLISH
X-WR-CALNAME:caldesm@caldesdemontbui.cat
X-WR-TIMEZONE:Europe/Madrid
DESCRIPTION:
URI:https://www.caldesdemontbui.cat/actualitat/agenda/sant-jordi-2026diada-castellera-de-primavera.html
CLASS:PUBLIC
END:VEVENT
END:VCALENDAR
