BEGIN:VCALENDAR
VERSION:2.0
CALSCALE:GREGORIAN
PRODID:-//Diputació de Barcelona//DibaCMS//EN
BEGIN:VEVENT
UID:28983
DTSTAMP:20260420T035603
DTSTART:20260307T120000
DTEND:20260913T140000
SUMMARY:Exposició "Càlida. El càncer de mama i l'aigua termal", del 7 de març al 13 de setembre a Thermalia
LOCATION:Plaça de la Font del Lleó, 20 08140 Caldes de Montbui
METHOD:PUBLISH
X-WR-CALNAME:caldesm@caldesdemontbui.cat
X-WR-TIMEZONE:Europe/Madrid
DESCRIPTION:
URI:https://www.caldesdemontbui.cat/actualitat/agenda/exposicio-calida-el-cancer-de-mama-i-laigua-termal-del-7-de-marc-al-13-de-setembre-a-thermalia.html
CLASS:PUBLIC
END:VEVENT
END:VCALENDAR
